BEGIN:VCALENDAR
VERSION:2.0
PRODID:-//time.now/holidays//NONSGML v1.0//EN
BEGIN:VEVENT
UID:740598ea-0e13-4ee0-aaec-77d535fb82e1
DTSTAMP:20260420T185823Z
DTSTART;VALUE=DATE:20300408
SUMMARY:Women's Day (observed) (Mozambique)
END:VEVENT
END:VCALENDAR