BEGIN:VCALENDAR
VERSION:2.0
PRODID:-//time.now/holidays//NONSGML v1.0//EN
BEGIN:VEVENT
UID:7d7f35f3-35d0-4bca-94da-a411f4dcf0b8
DTSTAMP:20260420T183829Z
DTSTART;VALUE=DATE:20310908
SUMMARY:Victory Day (observed) (Mozambique)
END:VEVENT
END:VCALENDAR