BEGIN:VCALENDAR
VERSION:2.0
PRODID:-//time.now/holidays//NONSGML v1.0//EN
BEGIN:VEVENT
UID:ade6c28a-5551-45eb-b8ee-5358c5ac7bf7
DTSTAMP:20260420T124513Z
DTSTART;VALUE=DATE:20260821
SUMMARY:Youth Day (Maroc)
END:VEVENT
END:VCALENDAR