BEGIN:VCALENDAR
VERSION:2.0
PRODID:-//time.now/holidays//NONSGML v1.0//EN
BEGIN:VEVENT
UID:305acba8-b676-47b8-b217-500c8d5872cb
DTSTAMP:20260420T213812Z
DTSTART;VALUE=DATE:20260111
SUMMARY:Proclamation of Independence Day (Maroc)
END:VEVENT
END:VCALENDAR