BEGIN:VCALENDAR
VERSION:2.0
PRODID:-//time.now/holidays//NONSGML v1.0//EN
BEGIN:VEVENT
UID:6aec4ac6-7c0b-42d3-91dc-966ea9d506e7
DTSTAMP:20260420T193902Z
DTSTART;VALUE=DATE:20331114
SUMMARY:Njegos Day (observed) (Monténégro)
END:VEVENT
END:VCALENDAR