BEGIN:VCALENDAR
VERSION:2.0
PRODID:-//time.now/holidays//NONSGML v1.0//EN
BEGIN:VEVENT
UID:07756179-3359-4b54-a234-1ea51367b55e
DTSTAMP:20260420T202924Z
DTSTART;VALUE=DATE:20260101
SUMMARY:New Year's Day (Monténégro)
END:VEVENT
END:VCALENDAR