BEGIN:VCALENDAR
VERSION:2.0
PRODID:-//time.now/holidays//NONSGML v1.0//EN
BEGIN:VEVENT
UID:fef709bf-fccb-4dec-a2c5-fb283fc4c0c4
DTSTAMP:20260420T075126Z
DTSTART;VALUE=DATE:20260521
SUMMARY:Independence Day (Monténégro)
END:VEVENT
END:VCALENDAR