BEGIN:VCALENDAR
VERSION:2.0
PRODID:-//time.now/holidays//NONSGML v1.0//EN
BEGIN:VEVENT
UID:4158d442-372f-4704-968c-7a178dffd6f5
DTSTAMP:20260420T065914Z
DTSTART;VALUE=DATE:20260525
SUMMARY:Whit Monday (Monaco)
END:VEVENT
END:VCALENDAR