BEGIN:VCALENDAR
VERSION:2.0
PRODID:-//time.now/holidays//NONSGML v1.0//EN
BEGIN:VEVENT
UID:c3ac5e80-2825-4091-a9b5-7f6ce4bfad67
DTSTAMP:20260420T024339Z
DTSTART;VALUE=DATE:20260501
SUMMARY:Labor Day (Monaco)
END:VEVENT
END:VCALENDAR