BEGIN:VCALENDAR
VERSION:2.0
PRODID:-//time.now/holidays//NONSGML v1.0//EN
BEGIN:VEVENT
UID:5fe1d682-9ac5-45fb-af60-9e6bc5c371c3
DTSTAMP:20260420T140001Z
DTSTART;VALUE=DATE:20261102
SUMMARY:All Saints' Day (observed) (Monaco)
END:VEVENT
END:VCALENDAR