BEGIN:VCALENDAR
VERSION:2.0
PRODID:-//time.now/holidays//NONSGML v1.0//EN
BEGIN:VEVENT
UID:4ea36e6a-1535-4288-8770-6e90c9ec2392
DTSTAMP:20260421T005751Z
DTSTART;VALUE=DATE:20260827
SUMMARY:Republic of Moldova Independence Day (Moldova)
END:VEVENT
END:VCALENDAR