BEGIN:VCALENDAR
VERSION:2.0
PRODID:-//time.now/holidays//NONSGML v1.0//EN
BEGIN:VEVENT
UID:9e4cb7b3-bb91-4594-8376-292109ea3261
DTSTAMP:20260421T012213Z
DTSTART;VALUE=DATE:20260509
SUMMARY:Europe Day; Victory Day and Commemoration of the heroes fallen for Independence of Fatherland (Moldova)
END:VEVENT
END:VCALENDAR