BEGIN:VCALENDAR
VERSION:2.0
PRODID:-//time.now/holidays//NONSGML v1.0//EN
BEGIN:VEVENT
UID:4a5cb70b-7774-49fa-9ff6-70d0ecc711a9
DTSTAMP:20260420T121300Z
DTSTART;VALUE=DATE:20260107
SUMMARY:Christmas Day (by old style) (Moldova)
END:VEVENT
END:VCALENDAR