BEGIN:VCALENDAR
VERSION:2.0
PRODID:-//time.now/holidays//NONSGML v1.0//EN
BEGIN:VEVENT
UID:17195441-8a86-4b27-8604-4f2d164cc3d1
DTSTAMP:20260420T072430Z
DTSTART;VALUE=DATE:20260302
SUMMARY:Yap Day (observed) (Micronésie)
END:VEVENT
END:VCALENDAR