BEGIN:VCALENDAR
VERSION:2.0
PRODID:-//time.now/holidays//NONSGML v1.0//EN
BEGIN:VEVENT
UID:f3843c16-647e-4357-8206-95173bf5b2f5
DTSTAMP:20260420T033400Z
DTSTART;VALUE=DATE:20261023
SUMMARY:United Nations Day (observed) (Micronésie)
END:VEVENT
END:VCALENDAR