BEGIN:VCALENDAR
VERSION:2.0
PRODID:-//time.now/holidays//NONSGML v1.0//EN
BEGIN:VEVENT
UID:6688f096-4939-4cad-9289-519e72aaea0a
DTSTAMP:20260420T060131Z
DTSTART;VALUE=DATE:20260926
SUMMARY:State Charter Day (Micronésie)
END:VEVENT
END:VCALENDAR