BEGIN:VCALENDAR
VERSION:2.0
PRODID:-//time.now/holidays//NONSGML v1.0//EN
BEGIN:VEVENT
UID:3f8d31e2-6738-4dec-b0b7-9f4e42f0b074
DTSTAMP:20260420T075752Z
DTSTART;VALUE=DATE:20260925
SUMMARY:State Charter Day (observed) (Micronésie)
END:VEVENT
END:VCALENDAR