BEGIN:VCALENDAR
VERSION:2.0
PRODID:-//time.now/holidays//NONSGML v1.0//EN
BEGIN:VEVENT
UID:4114f965-c552-4384-9bb0-41a1c825a52f
DTSTAMP:20260422T210434Z
DTSTART;VALUE=DATE:20281123
SUMMARY:Presidents Day; Thanksgiving Day (Micronésie)
END:VEVENT
END:VCALENDAR