BEGIN:VCALENDAR
VERSION:2.0
PRODID:-//time.now/holidays//NONSGML v1.0//EN
BEGIN:VEVENT
UID:b1cb52f3-d8aa-44a7-ba99-715e996f9ef9
DTSTAMP:20260420T051235Z
DTSTART;VALUE=DATE:20261108
SUMMARY:Pohnpei Constitution Day (Micronésie)
END:VEVENT
END:VCALENDAR