BEGIN:VCALENDAR
VERSION:2.0
PRODID:-//time.now/holidays//NONSGML v1.0//EN
BEGIN:VEVENT
UID:4030e10b-9039-489d-a711-2c3d48908bcd
DTSTAMP:20260420T215921Z
DTSTART;VALUE=DATE:20260331
SUMMARY:Micronesian Culture and Tradition Day (Micronésie)
END:VEVENT
END:VCALENDAR