BEGIN:VCALENDAR
VERSION:2.0
PRODID:-//time.now/holidays//NONSGML v1.0//EN
BEGIN:VEVENT
UID:6a9d45c0-2e20-47e3-8caa-05874ed7cbd9
DTSTAMP:20260420T134826Z
DTSTART;VALUE=DATE:20270910
SUMMARY:Liberation Day (observed) (Micronésie)
END:VEVENT
END:VCALENDAR