BEGIN:VCALENDAR
VERSION:2.0
PRODID:-//time.now/holidays//NONSGML v1.0//EN
BEGIN:VEVENT
UID:3691aa3d-573c-4d6f-8a4d-077e6dd6b7ef
DTSTAMP:20260420T205212Z
DTSTART;VALUE=DATE:20261103
SUMMARY:Independence Day; Self Government Day (Micronésie)
END:VEVENT
END:VCALENDAR