BEGIN:VCALENDAR
VERSION:2.0
PRODID:-//time.now/holidays//NONSGML v1.0//EN
BEGIN:VEVENT
UID:ca448c2c-0428-40ac-88a6-af79cefac5e4
DTSTAMP:20260420T104438Z
DTSTART;VALUE=DATE:20260821
SUMMARY:Gospel Day (Micronésie)
END:VEVENT
END:VCALENDAR