BEGIN:VCALENDAR
VERSION:2.0
PRODID:-//time.now/holidays//NONSGML v1.0//EN
BEGIN:VEVENT
UID:3e04b35d-e05b-4b30-9472-ad1753a7f55d
DTSTAMP:20260420T013457Z
DTSTART;VALUE=DATE:20260403
SUMMARY:Good Friday (Micronésie)
END:VEVENT
END:VCALENDAR