BEGIN:VCALENDAR
VERSION:2.0
PRODID:-//time.now/holidays//NONSGML v1.0//EN
BEGIN:VEVENT
UID:3027f0e3-8117-4384-8846-c8c0e36ce5a3
DTSTAMP:20260422T091138Z
DTSTART;VALUE=DATE:20260511
SUMMARY:Federated States of Micronesia Day (observed) (Micronésie)
END:VEVENT
END:VCALENDAR