BEGIN:VCALENDAR
VERSION:2.0
PRODID:-//time.now/holidays//NONSGML v1.0//EN
BEGIN:VEVENT
UID:95938bb7-e3e9-407f-92f4-7659f7cdfec2
DTSTAMP:20260420T075903Z
DTSTART;VALUE=DATE:20261001
SUMMARY:Chuuk State Constitution Day (Micronésie)
END:VEVENT
END:VCALENDAR