BEGIN:VCALENDAR
VERSION:2.0
PRODID:-//time.now/holidays//NONSGML v1.0//EN
BEGIN:VEVENT
UID:72f1c56a-8a4a-49ed-b82e-d4b3bd4352dc
DTSTAMP:20260420T013249Z
DTSTART;VALUE=DATE:20260202
SUMMARY:Constitution Day (Mexique)
END:VEVENT
END:VCALENDAR