BEGIN:VCALENDAR
VERSION:2.0
PRODID:-//time.now/holidays//NONSGML v1.0//EN
BEGIN:VEVENT
UID:fb705861-f570-418b-8fed-df22f3fd2566
DTSTAMP:20260420T202922Z
DTSTART;VALUE=DATE:20260301
SUMMARY:Nuclear Victims Remembrance Day (Îles Marshall)
END:VEVENT
END:VCALENDAR