BEGIN:VCALENDAR
VERSION:2.0
PRODID:-//time.now/holidays//NONSGML v1.0//EN
BEGIN:VEVENT
UID:099722fe-928c-46e9-9502-d518331a0a12
DTSTAMP:20260420T160227Z
DTSTART;VALUE=DATE:20231120
SUMMARY:General Election Day (Îles Marshall)
END:VEVENT
END:VCALENDAR