BEGIN:VCALENDAR
VERSION:2.0
PRODID:-//time.now/holidays//NONSGML v1.0//EN
BEGIN:VEVENT
UID:c336698f-a43e-49db-8542-a9f41c9446e3
DTSTAMP:20260420T093904Z
DTSTART;VALUE=DATE:20260703
SUMMARY:Fisherman's Day (Îles Marshall)
END:VEVENT
END:VCALENDAR