BEGIN:VCALENDAR
VERSION:2.0
PRODID:-//time.now/holidays//NONSGML v1.0//EN
BEGIN:VEVENT
UID:050cf964-fa5e-4840-ae4d-75ba53311e7d
DTSTAMP:20260420T172348Z
DTSTART;VALUE=DATE:20261225
SUMMARY:Christmas Day (Îles Marshall)
END:VEVENT
END:VCALENDAR