BEGIN:VCALENDAR
VERSION:2.0
PRODID:-//time.now/holidays//NONSGML v1.0//EN
BEGIN:VEVENT
UID:5ddb4726-8a29-43ca-8bb5-3de3649ad4d8
DTSTAMP:20260420T004927Z
DTSTART;VALUE=DATE:20260403
SUMMARY:Good Friday (Malte)
END:VEVENT
END:VCALENDAR