BEGIN:VCALENDAR
VERSION:2.0
PRODID:-//time.now/holidays//NONSGML v1.0//EN
BEGIN:VEVENT
UID:f88e1724-6453-4c45-a85b-7fd1cfa426be
DTSTAMP:20260422T091813Z
DTSTART;VALUE=DATE:20260629
SUMMARY:Feast of Saint Peter and Saint Paul (Malte)
END:VEVENT
END:VCALENDAR