BEGIN:VCALENDAR
VERSION:2.0
PRODID:-//time.now/holidays//NONSGML v1.0//EN
BEGIN:VEVENT
UID:1fc2e2da-7b57-404a-8043-24ff1379019d
DTSTAMP:20260420T091503Z
DTSTART;VALUE=DATE:20261225
SUMMARY:Christmas Day (Malte)
END:VEVENT
END:VCALENDAR