BEGIN:VCALENDAR
VERSION:2.0
PRODID:-//time.now/holidays//NONSGML v1.0//EN
BEGIN:VEVENT
UID:c61acc60-0500-4d6b-af5f-297c13b499e8
DTSTAMP:20260420T171424Z
DTSTART;VALUE=DATE:20260101
SUMMARY:New Year's Day (Maldives)
END:VEVENT
END:VCALENDAR