BEGIN:VCALENDAR
VERSION:2.0
PRODID:-//time.now/holidays//NONSGML v1.0//EN
BEGIN:VEVENT
UID:8e9e6219-9e7e-48bb-ab65-76b7c8a041f2
DTSTAMP:20260420T184254Z
DTSTART;VALUE=DATE:20260526
SUMMARY:Hajj Day (estimated) (Maldives)
END:VEVENT
END:VCALENDAR