BEGIN:VCALENDAR
VERSION:2.0
PRODID:-//time.now/holidays//NONSGML v1.0//EN
BEGIN:VEVENT
UID:61f61660-d28a-4760-983b-24d8ff9b6243
DTSTAMP:20260420T114833Z
DTSTART;VALUE=DATE:20250512
SUMMARY:Vesak Day (Malaisie)
END:VEVENT
END:VCALENDAR