BEGIN:VCALENDAR
VERSION:2.0
PRODID:-//time.now/holidays//NONSGML v1.0//EN
BEGIN:VEVENT
UID:cf8d1e25-65c2-4f96-82cb-f3dc606e4757
DTSTAMP:20260420T154455Z
DTSTART;VALUE=DATE:20220516
SUMMARY:Vesak Day (observed) (Malaisie)
END:VEVENT
END:VCALENDAR