BEGIN:VCALENDAR
VERSION:2.0
PRODID:-//time.now/holidays//NONSGML v1.0//EN
BEGIN:VEVENT
UID:65195aa2-3fe3-4d5c-bf4b-a402996e925c
DTSTAMP:20260422T102517Z
DTSTART;VALUE=DATE:20330523
SUMMARY:The Sultan of Pahang Hol (observed) (Malaisie)
END:VEVENT
END:VCALENDAR