BEGIN:VCALENDAR
VERSION:2.0
PRODID:-//time.now/holidays//NONSGML v1.0//EN
BEGIN:VEVENT
UID:e52abd9c-55b0-4367-b618-659f38dd415d
DTSTAMP:20260420T174502Z
DTSTART;VALUE=DATE:20260202
SUMMARY:Thaipusam (observed) (Malaisie)
END:VEVENT
END:VCALENDAR