BEGIN:VCALENDAR
VERSION:2.0
PRODID:-//time.now/holidays//NONSGML v1.0//EN
BEGIN:VEVENT
UID:ca907a4c-ba45-48d7-87ac-f067c56c933c
DTSTAMP:20260422T090722Z
DTSTART;VALUE=DATE:20250318
SUMMARY:Nuzul Al-Quran Day (Malaisie)
END:VEVENT
END:VCALENDAR