BEGIN:VCALENDAR
VERSION:2.0
PRODID:-//time.now/holidays//NONSGML v1.0//EN
BEGIN:VEVENT
UID:d5ec573f-69f5-482e-b99a-44c062edd1d0
DTSTAMP:20260422T091801Z
DTSTART;VALUE=DATE:20260306
SUMMARY:Nuzul Al-Quran Day (estimated) (Malaisie)
END:VEVENT
END:VCALENDAR