BEGIN:VCALENDAR
VERSION:2.0
PRODID:-//time.now/holidays//NONSGML v1.0//EN
BEGIN:VEVENT
UID:c58c2c19-33c4-4919-85df-86b94c45e731
DTSTAMP:20260420T194726Z
DTSTART;VALUE=DATE:20340102
SUMMARY:New Year's Day (observed) (Malaisie)
END:VEVENT
END:VCALENDAR