BEGIN:VCALENDAR
VERSION:2.0
PRODID:-//time.now/holidays//NONSGML v1.0//EN
BEGIN:VEVENT
UID:5af52cdc-729c-402c-ab2f-635647a930c7
DTSTAMP:20260420T171429Z
DTSTART;VALUE=DATE:20260831
SUMMARY:National Day (Malaisie)
END:VEVENT
END:VCALENDAR