BEGIN:VCALENDAR
VERSION:2.0
PRODID:-//time.now/holidays//NONSGML v1.0//EN
BEGIN:VEVENT
UID:607ddaee-8ead-42a5-a5a9-dc214f73e176
DTSTAMP:20260420T080442Z
DTSTART;VALUE=DATE:20270501
SUMMARY:Labor Day (Malaisie)
END:VEVENT
END:VCALENDAR