BEGIN:VCALENDAR
VERSION:2.0
PRODID:-//time.now/holidays//NONSGML v1.0//EN
BEGIN:VEVENT
UID:aef84633-7074-4d31-8932-8729b7f371bf
DTSTAMP:20260420T210313Z
DTSTART;VALUE=DATE:20230219
SUMMARY:Isra' and Mi'raj (observed) (Malaisie)
END:VEVENT
END:VCALENDAR