BEGIN:VCALENDAR
VERSION:2.0
PRODID:-//time.now/holidays//NONSGML v1.0//EN
BEGIN:VEVENT
UID:b732f788-4ef8-4d8f-9251-bb3ec339ef0d
DTSTAMP:20260423T030308Z
DTSTART;VALUE=DATE:20260118
SUMMARY:Isra' and Mi'raj (observed, estimated) (Malaisie)
END:VEVENT
END:VCALENDAR