BEGIN:VCALENDAR
VERSION:2.0
PRODID:-//time.now/holidays//NONSGML v1.0//EN
BEGIN:VEVENT
UID:2030c3f0-006e-47bd-985d-67239eb3955f
DTSTAMP:20260422T193223Z
DTSTART;VALUE=DATE:20260116
SUMMARY:Isra' and Mi'raj (estimated) (Malaisie)
END:VEVENT
END:VCALENDAR