BEGIN:VCALENDAR
VERSION:2.0
PRODID:-//time.now/holidays//NONSGML v1.0//EN
BEGIN:VEVENT
UID:8ebf9035-d8b4-48bc-838b-02b501e51187
DTSTAMP:20260420T124959Z
DTSTART;VALUE=DATE:20250627
SUMMARY:Islamic New Year (Malaisie)
END:VEVENT
END:VCALENDAR