BEGIN:VCALENDAR
VERSION:2.0
PRODID:-//time.now/holidays//NONSGML v1.0//EN
BEGIN:VEVENT
UID:e0c53de9-9a3e-4179-8258-153089ada97b
DTSTAMP:20260420T053435Z
DTSTART;VALUE=DATE:20260403
SUMMARY:Good Friday (Malaisie)
END:VEVENT
END:VCALENDAR